BEGIN:VCALENDAR
VERSION:2.0
PRODID:-//Malagacha Gallery - Strasbourg, Lausanne &amp; Mulhouse - ECPv6.9.0//NONSGML v1.0//EN
CALSCALE:GREGORIAN
METHOD:PUBLISH
X-WR-CALNAME:Malagacha Gallery - Strasbourg, Lausanne &amp; Mulhouse
X-ORIGINAL-URL:https://malagacha.com
X-WR-CALDESC:Évènements pour Malagacha Gallery - Strasbourg, Lausanne &amp; Mulhouse
REFRESH-INTERVAL;VALUE=DURATION:PT1H
X-Robots-Tag:noindex
X-PUBLISHED-TTL:PT1H
BEGIN:VTIMEZONE
TZID:Europe/Zurich
BEGIN:DAYLIGHT
TZOFFSETFROM:+0100
TZOFFSETTO:+0200
TZNAME:CEST
DTSTART:20240331T010000
END:DAYLIGHT
BEGIN:STANDARD
TZOFFSETFROM:+0200
TZOFFSETTO:+0100
TZNAME:CET
DTSTART:20241027T010000
END:STANDARD
END:VTIMEZONE
BEGIN:VEVENT
DTSTART;TZID=Europe/Zurich:20240217T103000
DTEND;TZID=Europe/Zurich:20240217T133000
DTSTAMP:20260426T030129
CREATED:20240112T092619Z
LAST-MODIFIED:20240517T140344Z
UID:30548-1708165800-1708176600@malagacha.com
SUMMARY:Le Brunch des Collectionneurs
DESCRIPTION:Le Brunch des Collectionneurs – Événement privé – Malagacha Strasbourg \nPour fêter 2024 comme il se doit MALAGACHA GALLERY STRASBOURG convie tous ses clients pour un brunch des collectionneurs le samedi 17 février ! \nAu programme\, partage d’un bon brunch au sein de la galerie\, échange autour des nouvelles toiles et des nouveaux artistes. \nEntrée gratuite – Places limitées –  Le samedi 17 Février 2024 de 10h30 à 13h30. \nRéservez maintenant ci-dessous\, 4 places maximum par réservation.
URL:https://malagacha.com/event/le-brunch-des-collectionneurs/
LOCATION:Malagacha Strasbourg\, Malagacha Strasbourg\, 9 Rue du Parchemin\, 67000 Strasbourg\, France
END:VEVENT
END:VCALENDAR